BEGIN:VCALENDAR
VERSION:2.0
PRODID:-//Corps Delta Aachen//Semesterprogramm//DE
CALSCALE:GREGORIAN
METHOD:PUBLISH
X-WR-CALNAME:Corps Delta Aachen Semesterprogramm
X-WR-TIMEZONE:Europe/Berlin
BEGIN:VEVENT
UID:18e0e7c896eb75fe5344d93b99d5786cd3533a4e@corpsdelta.de
DTSTAMP:20260419T173634Z
SUMMARY:Couleurtag
DTSTART;VALUE=DATE:20260505
DTEND;VALUE=DATE:20260506
DESCRIPTION:Exportiert aus dem Semesterprogramm von Corps Delta Aachen.
LOCATION:Corps Delta\, Hainbuchenstraße 23\, 52074 Aachen
END:VEVENT
END:VCALENDAR
