BEGIN:VCALENDAR
VERSION:2.0
PRODID:-//Corps Delta Aachen//Semesterprogramm//DE
CALSCALE:GREGORIAN
METHOD:PUBLISH
X-WR-CALNAME:Corps Delta Aachen Semesterprogramm
X-WR-TIMEZONE:Europe/Berlin
BEGIN:VEVENT
UID:45057c3e5d768b377bdc4369300161118d5b796f@corpsdelta.de
DTSTAMP:20260419T174015Z
SUMMARY:Hörnfrühschoppen
DTSTART;VALUE=DATE:20260426
DTEND;VALUE=DATE:20260427
DESCRIPTION:Exportiert aus dem Semesterprogramm von Corps Delta Aachen.
LOCATION:Corps Delta\, Hainbuchenstraße 23\, 52074 Aachen
END:VEVENT
END:VCALENDAR
