BEGIN:VCALENDAR
VERSION:2.0
PRODID:-//Corps Delta Aachen//Semesterprogramm//DE
CALSCALE:GREGORIAN
METHOD:PUBLISH
X-WR-CALNAME:Corps Delta Aachen Semesterprogramm
X-WR-TIMEZONE:Europe/Berlin
BEGIN:VEVENT
UID:5388b9865a302609f442a2dd3eb4964a2132dd5a@corpsdelta.de
DTSTAMP:20260419T174113Z
SUMMARY:3. oM-Tag
DTSTART;VALUE=DATE:20260708
DTEND;VALUE=DATE:20260709
DESCRIPTION:Exportiert aus dem Semesterprogramm von Corps Delta Aachen.
LOCATION:Corps Delta\, Hainbuchenstraße 23\, 52074 Aachen
END:VEVENT
END:VCALENDAR
