BEGIN:VCALENDAR
VERSION:2.0
PRODID:-//Corps Delta Aachen//Semesterprogramm//DE
CALSCALE:GREGORIAN
METHOD:PUBLISH
X-WR-CALNAME:Corps Delta Aachen Semesterprogramm
X-WR-TIMEZONE:Europe/Berlin
BEGIN:VEVENT
UID:6e703dd88b990cd55602aed3a7ab966d6e0a7248@corpsdelta.de
DTSTAMP:20260419T173737Z
SUMMARY:ASC-Chargiertenkneipe
DTSTART;VALUE=DATE:20260422
DTEND;VALUE=DATE:20260423
DESCRIPTION:Exportiert aus dem Semesterprogramm von Corps Delta Aachen.
LOCATION:Corps Delta\, Hainbuchenstraße 23\, 52074 Aachen
END:VEVENT
END:VCALENDAR
