BEGIN:VCALENDAR
VERSION:2.0
PRODID:-//Corps Delta Aachen//Semesterprogramm//DE
CALSCALE:GREGORIAN
METHOD:PUBLISH
X-WR-CALNAME:Corps Delta Aachen Semesterprogramm
X-WR-TIMEZONE:Europe/Berlin
BEGIN:VEVENT
UID:705056ccde1467df63ee21dc60e481420523cf1f@corpsdelta.de
DTSTAMP:20260419T174148Z
SUMMARY:1. oM-Tag
DTSTART;VALUE=DATE:20260507
DTEND;VALUE=DATE:20260508
DESCRIPTION:Exportiert aus dem Semesterprogramm von Corps Delta Aachen.
LOCATION:Corps Delta\, Hainbuchenstraße 23\, 52074 Aachen
END:VEVENT
END:VCALENDAR
