BEGIN:VCALENDAR
VERSION:2.0
PRODID:-//Corps Delta Aachen//Semesterprogramm//DE
CALSCALE:GREGORIAN
METHOD:PUBLISH
X-WR-CALNAME:Corps Delta Aachen Semesterprogramm
X-WR-TIMEZONE:Europe/Berlin
BEGIN:VEVENT
UID:b35f9de9de914efdb6d00b90428b7bb3e2e1464c@corpsdelta.de
DTSTAMP:20260419T173730Z
SUMMARY:Aktivenfahrt nach Karlsruhe
DTSTART;VALUE=DATE:20260619
DTEND;VALUE=DATE:20260622
DESCRIPTION:Exportiert aus dem Semesterprogramm von Corps Delta Aachen.
LOCATION:Corps Delta\, Hainbuchenstraße 23\, 52074 Aachen
END:VEVENT
END:VCALENDAR
